BEGIN:VCALENDAR
VERSION:2.0
PRODID:-//Ripon Fly Fishers - ECPv6.15.13//NONSGML v1.0//EN
CALSCALE:GREGORIAN
METHOD:PUBLISH
X-ORIGINAL-URL:https://riponflyfishers.co.uk
X-WR-CALDESC:Events for Ripon Fly Fishers
REFRESH-INTERVAL;VALUE=DURATION:PT1H
X-Robots-Tag:noindex
X-PUBLISHED-TTL:PT1H
BEGIN:VTIMEZONE
TZID:UTC
BEGIN:STANDARD
TZOFFSETFROM:+0000
TZOFFSETTO:+0000
TZNAME:UTC
DTSTART:20210101T000000
END:STANDARD
END:VTIMEZONE
BEGIN:VEVENT
DTSTART;TZID=UTC:20220629T080000
DTEND;TZID=UTC:20220629T170000
DTSTAMP:20260421T094401
CREATED:20220627T102104Z
LAST-MODIFIED:20220627T102254Z
UID:2769-1656489600-1656522000@riponflyfishers.co.uk
SUMMARY:Test Event
DESCRIPTION:
URL:https://riponflyfishers.co.uk/event/test-event/
CATEGORIES:Bulmers
END:VEVENT
END:VCALENDAR